Package: circRNAprofiler Version: 1.18.0 Maintainer: Simona Aufiero MaintainerEmail: simo.aufiero at gmail.com git_url: https://git.bioconductor.org/packages/circRNAprofiler git_branch: RELEASE_3_19 git_last_commit: 61f3b94 git_last_commit_date: 2024-04-30 11:15:56 -0400 (Tue, 30 Apr 2024)