Package: circRNAprofiler Version: 1.18.0 Command: rm -rf circRNAprofiler.buildbin-libdir && mkdir circRNAprofiler.buildbin-libdir && /Users/biocbuild/BBS/utils/build-universal.sh circRNAprofiler_1.18.0.tar.gz /Library/Frameworks/R.framework/Resources/bin/R circRNAprofiler.buildbin-libdir StartedAt: 2024-10-18 17:47:43 -0400 (Fri, 18 Oct 2024) EndedAt: 2024-10-18 17:48:57 -0400 (Fri, 18 Oct 2024) EllapsedTime: 73.6 seconds RetCode: 0 Status: OK PackageFile: circRNAprofiler_1.18.0.tgz PackageFileSize: 3.553 MiB