Package: circRNAprofiler Version: 1.18.0 Command: rm -rf circRNAprofiler.buildbin-libdir && mkdir circRNAprofiler.buildbin-libdir && /Users/biocbuild/BBS/utils/build-universal.sh circRNAprofiler_1.18.0.tar.gz /Library/Frameworks/R.framework/Resources/bin/R circRNAprofiler.buildbin-libdir StartedAt: 2024-06-11 10:35:11 -0400 (Tue, 11 Jun 2024) EndedAt: 2024-06-11 10:36:50 -0400 (Tue, 11 Jun 2024) EllapsedTime: 99.1 seconds RetCode: 0 Status: OK PackageFile: circRNAprofiler_1.18.0.tgz PackageFileSize: 3.554 MiB