Package: circRNAprofiler Version: 1.18.0 Command: /Library/Frameworks/R.framework/Resources/bin/R CMD build --keep-empty-dirs --no-resave-data circRNAprofiler StartedAt: 2024-06-09 19:27:52 -0400 (Sun, 09 Jun 2024) EndedAt: 2024-06-09 19:30:03 -0400 (Sun, 09 Jun 2024) EllapsedTime: 130.9 seconds RetCode: 0 Status: OK PackageFile: circRNAprofiler_1.18.0.tar.gz PackageFileSize: 3.717 MiB