Package: circRNAprofiler Version: 1.18.0 Command: /home/biocbuild/R/R-beta-2024-04-15_r86425/bin/R CMD build --keep-empty-dirs --no-resave-data circRNAprofiler StartedAt: 2024-05-08 23:18:42 -0000 (Wed, 08 May 2024) EndedAt: 2024-05-08 23:20:38 -0000 (Wed, 08 May 2024) EllapsedTime: 115.4 seconds RetCode: 0 Status: OK PackageFile: circRNAprofiler_1.18.0.tar.gz PackageFileSize: 3.526 MiB