Package: circRNAprofiler Version: 1.18.0 Command: rm -rf circRNAprofiler.buildbin-libdir && mkdir circRNAprofiler.buildbin-libdir && F:\biocbuild\bbs-3.19-bioc\R\bin\R.exe CMD INSTALL --build --library=circRNAprofiler.buildbin-libdir circRNAprofiler_1.18.0.tar.gz StartedAt: 2024-06-27 07:59:52 -0400 (Thu, 27 Jun 2024) EndedAt: 2024-06-27 08:01:12 -0400 (Thu, 27 Jun 2024) EllapsedTime: 79.7 seconds RetCode: 0 Status: OK PackageFile: circRNAprofiler_1.18.0.zip PackageFileSize: 3.35 MiB