Package: circRNAprofiler Version: 1.18.0 Command: chmod a+r circRNAprofiler -R && F:\biocbuild\bbs-3.19-bioc\R\bin\R.exe CMD build --keep-empty-dirs --no-resave-data circRNAprofiler StartedAt: 2024-06-26 17:49:05 -0400 (Wed, 26 Jun 2024) EndedAt: 2024-06-26 17:50:44 -0400 (Wed, 26 Jun 2024) EllapsedTime: 98.5 seconds RetCode: 0 Status: OK PackageFile: circRNAprofiler_1.18.0.tar.gz PackageFileSize: 3.491 MiB