Package: cleanUpdTSeq Version: 1.42.0 Command: /home/biocbuild/bbs-3.19-bioc/R/bin/R CMD build --keep-empty-dirs --no-resave-data cleanUpdTSeq StartedAt: 2024-10-16 17:47:26 -0400 (Wed, 16 Oct 2024) EndedAt: 2024-10-16 17:48:43 -0400 (Wed, 16 Oct 2024) EllapsedTime: 77.1 seconds RetCode: 0 Status: OK PackageFile: cleanUpdTSeq_1.42.0.tar.gz PackageFileSize: 4.008 MiB