Package: cleanUpdTSeq Version: 1.42.0 Command: rm -rf cleanUpdTSeq.buildbin-libdir && mkdir cleanUpdTSeq.buildbin-libdir && E:\biocbuild\bbs-3.19-bioc\R\bin\R.exe CMD INSTALL --build --library=cleanUpdTSeq.buildbin-libdir cleanUpdTSeq_1.42.0.tar.gz StartedAt: 2024-10-17 07:32:46 -0400 (Thu, 17 Oct 2024) EndedAt: 2024-10-17 07:33:58 -0400 (Thu, 17 Oct 2024) EllapsedTime: 72.4 seconds RetCode: 0 Status: OK PackageFile: cleanUpdTSeq_1.42.0.zip PackageFileSize: 5.868 MiB