Package: cleanUpdTSeq Version: 1.42.0 Command: chmod a+r cleanUpdTSeq -R && E:\biocbuild\bbs-3.19-bioc\R\bin\R.exe CMD build --keep-empty-dirs --no-resave-data cleanUpdTSeq StartedAt: 2024-10-16 18:14:20 -0400 (Wed, 16 Oct 2024) EndedAt: 2024-10-16 18:16:05 -0400 (Wed, 16 Oct 2024) EllapsedTime: 105.4 seconds RetCode: 0 Status: OK PackageFile: cleanUpdTSeq_1.42.0.tar.gz PackageFileSize: 4.008 MiB