Package: clippda Version: 1.54.0 Maintainer: Stephen Nyangoma MaintainerEmail: s.o.nyangoma at bham.ac.uk git_url: https://git.bioconductor.org/packages/clippda git_branch: RELEASE_3_19 git_last_commit: eb69bf9 git_last_commit_date: 2024-04-30 10:20:33 -0400 (Tue, 30 Apr 2024)