Package: clippda Version: 1.54.0 Command: /home/biocbuild/R/R-beta-2024-04-15_r86425/bin/R CMD build --keep-empty-dirs --no-resave-data clippda StartedAt: 2024-05-08 23:20:38 -0000 (Wed, 08 May 2024) EndedAt: 2024-05-08 23:21:47 -0000 (Wed, 08 May 2024) EllapsedTime: 69.1 seconds RetCode: 0 Status: OK PackageFile: clippda_1.54.0.tar.gz PackageFileSize: 1.473 MiB