Package: clippda Version: 1.54.0 Command: chmod a+r clippda -R && F:\biocbuild\bbs-3.19-bioc\R\bin\R.exe CMD build --keep-empty-dirs --no-resave-data clippda StartedAt: 2024-06-26 17:50:09 -0400 (Wed, 26 Jun 2024) EndedAt: 2024-06-26 17:51:41 -0400 (Wed, 26 Jun 2024) EllapsedTime: 91.3 seconds RetCode: 0 Status: OK PackageFile: clippda_1.54.0.tar.gz PackageFileSize: 1.34 MiB