Package: clippda Version: 1.54.0 Command: E:\biocbuild\bbs-3.19-bioc\R\bin\R.exe CMD check --no-multiarch --install=check:clippda.install-out.txt --library=E:\biocbuild\bbs-3.19-bioc\R\library --no-vignettes --timings clippda_1.54.0.tar.gz StartedAt: 2024-10-17 00:02:44 -0400 (Thu, 17 Oct 2024) EndedAt: 2024-10-17 00:06:46 -0400 (Thu, 17 Oct 2024) EllapsedTime: 242.6 seconds RetCode: 0 Status: OK CheckDir: clippda.Rcheck Warnings: 0