Package: clippda Version: 1.54.0 Command: E:\biocbuild\bbs-3.19-bioc\R\bin\R.exe CMD INSTALL clippda StartedAt: 2024-10-16 16:39:44 -0400 (Wed, 16 Oct 2024) EndedAt: 2024-10-16 16:40:04 -0400 (Wed, 16 Oct 2024) EllapsedTime: 20.1 seconds RetCode: 0 Status: OK