Package: clstutils Version: 1.52.0 Command: /Library/Frameworks/R.framework/Resources/bin/R CMD INSTALL clstutils StartedAt: 2024-10-16 16:53:56 -0400 (Wed, 16 Oct 2024) EndedAt: 2024-10-16 16:54:02 -0400 (Wed, 16 Oct 2024) EllapsedTime: 5.9 seconds RetCode: 0 Status: OK