Package: clstutils Version: 1.52.0 Command: /Library/Frameworks/R.framework/Resources/bin/R CMD build --keep-empty-dirs --no-resave-data clstutils StartedAt: 2024-06-09 19:34:31 -0400 (Sun, 09 Jun 2024) EndedAt: 2024-06-09 19:34:58 -0400 (Sun, 09 Jun 2024) EllapsedTime: 27.1 seconds RetCode: 0 Status: OK PackageFile: clstutils_1.52.0.tar.gz PackageFileSize: 2.694 MiB