Package: clstutils Version: 1.52.0 Command: /home/biocbuild/bbs-3.19-bioc/R/bin/R CMD build --keep-empty-dirs --no-resave-data clstutils StartedAt: 2024-10-16 17:49:26 -0400 (Wed, 16 Oct 2024) EndedAt: 2024-10-16 17:49:39 -0400 (Wed, 16 Oct 2024) EllapsedTime: 13.0 seconds RetCode: 0 Status: OK PackageFile: clstutils_1.52.0.tar.gz PackageFileSize: 2.449 MiB