Package: clstutils Version: 1.52.0 Command: /home/biocbuild/bbs-3.19-bioc/R/bin/R CMD check --install=check:clstutils.install-out.txt --library=/home/biocbuild/bbs-3.19-bioc/R/site-library --timings clstutils_1.52.0.tar.gz StartedAt: 2024-10-16 22:50:16 -0400 (Wed, 16 Oct 2024) EndedAt: 2024-10-16 22:51:15 -0400 (Wed, 16 Oct 2024) EllapsedTime: 59.1 seconds RetCode: 0 Status: WARNINGS CheckDir: clstutils.Rcheck Warnings: 1