Package: clstutils Version: 1.52.0 Command: rm -rf clstutils.buildbin-libdir && mkdir clstutils.buildbin-libdir && F:\biocbuild\bbs-3.19-bioc\R\bin\R.exe CMD INSTALL --build --library=clstutils.buildbin-libdir clstutils_1.52.0.tar.gz StartedAt: 2024-06-27 08:00:16 -0400 (Thu, 27 Jun 2024) EndedAt: 2024-06-27 08:00:30 -0400 (Thu, 27 Jun 2024) EllapsedTime: 13.6 seconds RetCode: 0 Status: OK PackageFile: clstutils_1.52.0.zip PackageFileSize: 2.485 MiB