Package: clstutils Version: 1.52.0 Command: chmod a+r clstutils -R && F:\biocbuild\bbs-3.19-bioc\R\bin\R.exe CMD build --keep-empty-dirs --no-resave-data clstutils StartedAt: 2024-06-26 17:51:19 -0400 (Wed, 26 Jun 2024) EndedAt: 2024-06-26 17:51:47 -0400 (Wed, 26 Jun 2024) EllapsedTime: 27.9 seconds RetCode: 0 Status: OK PackageFile: clstutils_1.52.0.tar.gz PackageFileSize: 2.453 MiB