Package: clstutils Version: 1.52.0 Command: rm -rf clstutils.buildbin-libdir && mkdir clstutils.buildbin-libdir && E:\biocbuild\bbs-3.19-bioc\R\bin\R.exe CMD INSTALL --build --library=clstutils.buildbin-libdir clstutils_1.52.0.tar.gz StartedAt: 2024-10-17 07:33:10 -0400 (Thu, 17 Oct 2024) EndedAt: 2024-10-17 07:33:20 -0400 (Thu, 17 Oct 2024) EllapsedTime: 9.7 seconds RetCode: 0 Status: OK PackageFile: clstutils_1.52.0.zip PackageFileSize: 2.487 MiB