Package: clusterSeq Version: 1.28.0 Command: rm -rf clusterSeq.buildbin-libdir && mkdir clusterSeq.buildbin-libdir && /Users/biocbuild/BBS/utils/build-universal.sh clusterSeq_1.28.0.tar.gz /Library/Frameworks/R.framework/Resources/bin/R clusterSeq.buildbin-libdir StartedAt: 2024-10-18 17:49:59 -0400 (Fri, 18 Oct 2024) EndedAt: 2024-10-18 17:50:20 -0400 (Fri, 18 Oct 2024) EllapsedTime: 21.5 seconds RetCode: 0 Status: OK PackageFile: clusterSeq_1.28.0.tgz PackageFileSize: 1.053 MiB