Package: clusterSeq Version: 1.28.0 Command: /Library/Frameworks/R.framework/Resources/bin/R CMD build --keep-empty-dirs --no-resave-data clusterSeq StartedAt: 2024-06-09 19:38:13 -0400 (Sun, 09 Jun 2024) EndedAt: 2024-06-09 19:39:43 -0400 (Sun, 09 Jun 2024) EllapsedTime: 89.6 seconds RetCode: 0 Status: OK PackageFile: clusterSeq_1.28.0.tar.gz PackageFileSize: 1.008 MiB