Package: clusterSeq Version: 1.28.0 Command: /Library/Frameworks/R.framework/Resources/bin/R CMD check --install=check:clusterSeq.install-out.txt --library=/Library/Frameworks/R.framework/Resources/library --no-vignettes --timings clusterSeq_1.28.0.tar.gz StartedAt: 2024-06-10 10:58:41 -0400 (Mon, 10 Jun 2024) EndedAt: 2024-06-10 11:05:30 -0400 (Mon, 10 Jun 2024) EllapsedTime: 409.1 seconds RetCode: 0 Status: OK CheckDir: clusterSeq.Rcheck Warnings: 0