Package: clusterSeq Version: 1.28.0 Command: /home/biocbuild/R/R-beta-2024-04-15_r86425/bin/R CMD build --keep-empty-dirs --no-resave-data clusterSeq StartedAt: 2024-05-08 23:23:41 -0000 (Wed, 08 May 2024) EndedAt: 2024-05-08 23:25:11 -0000 (Wed, 08 May 2024) EllapsedTime: 90.1 seconds RetCode: 0 Status: OK PackageFile: clusterSeq_1.28.0.tar.gz PackageFileSize: 1008 KiB