Package: clusterSeq Version: 1.28.0 Command: /home/biocbuild/R/R-beta-2024-04-15_r86425/bin/R CMD INSTALL clusterSeq StartedAt: 2024-05-08 20:18:02 -0000 (Wed, 08 May 2024) EndedAt: 2024-05-08 20:18:22 -0000 (Wed, 08 May 2024) EllapsedTime: 20.3 seconds RetCode: 0 Status: OK