Package: clusterSeq Version: 1.28.0 Command: rm -rf clusterSeq.buildbin-libdir && mkdir clusterSeq.buildbin-libdir && /Users/biocbuild/BBS/utils/build-universal.sh clusterSeq_1.28.0.tar.gz /Library/Frameworks/R.framework/Resources/bin/R clusterSeq.buildbin-libdir StartedAt: 2024-10-17 15:52:30 -0400 (Thu, 17 Oct 2024) EndedAt: 2024-10-17 15:53:06 -0400 (Thu, 17 Oct 2024) EllapsedTime: 36.0 seconds RetCode: 0 Status: OK PackageFile: clusterSeq_1.28.0.tgz PackageFileSize: 1.053 MiB