Package: clusterSeq Version: 1.28.0 Command: /home/biocbuild/bbs-3.19-bioc/R/bin/R CMD build --keep-empty-dirs --no-resave-data clusterSeq StartedAt: 2024-10-16 17:50:34 -0400 (Wed, 16 Oct 2024) EndedAt: 2024-10-16 17:51:28 -0400 (Wed, 16 Oct 2024) EllapsedTime: 54.1 seconds RetCode: 0 Status: OK PackageFile: clusterSeq_1.28.0.tar.gz PackageFileSize: 1.009 MiB