Package: clusterSeq Version: 1.28.0 Command: /home/biocbuild/bbs-3.19-bioc/R/bin/R CMD INSTALL clusterSeq StartedAt: 2024-10-16 16:01:27 -0400 (Wed, 16 Oct 2024) EndedAt: 2024-10-16 16:01:41 -0400 (Wed, 16 Oct 2024) EllapsedTime: 14.1 seconds RetCode: 0 Status: OK