Package: clusterStab Version: 1.76.0 Command: rm -rf clusterStab.buildbin-libdir && mkdir clusterStab.buildbin-libdir && /Users/biocbuild/BBS/utils/build-universal.sh clusterStab_1.76.0.tar.gz /Library/Frameworks/R.framework/Resources/bin/R clusterStab.buildbin-libdir StartedAt: 2024-06-11 10:37:31 -0400 (Tue, 11 Jun 2024) EndedAt: 2024-06-11 10:37:41 -0400 (Tue, 11 Jun 2024) EllapsedTime: 9.8 seconds RetCode: 0 Status: OK PackageFile: clusterStab_1.76.0.tgz PackageFileSize: 342.9 KiB