Package: clusterStab Version: 1.76.0 Command: /home/biocbuild/R/R-beta-2024-04-15_r86425/bin/R CMD check --install=check:clusterStab.install-out.txt --library=/home/biocbuild/R/R-beta-2024-04-15_r86425/site-library --no-vignettes --timings clusterStab_1.76.0.tar.gz StartedAt: 2024-05-09 05:58:11 -0000 (Thu, 09 May 2024) EndedAt: 2024-05-09 05:58:37 -0000 (Thu, 09 May 2024) EllapsedTime: 26.0 seconds RetCode: 0 Status: OK CheckDir: clusterStab.Rcheck Warnings: 0