Package: clusterStab Version: 1.76.0 Command: rm -rf clusterStab.buildbin-libdir && mkdir clusterStab.buildbin-libdir && /Users/biocbuild/BBS/utils/build-universal.sh clusterStab_1.76.0.tar.gz /Library/Frameworks/R.framework/Resources/bin/R clusterStab.buildbin-libdir StartedAt: 2024-06-10 00:11:56 -0400 (Mon, 10 Jun 2024) EndedAt: 2024-06-10 00:12:03 -0400 (Mon, 10 Jun 2024) EllapsedTime: 6.9 seconds RetCode: 0 Status: OK PackageFile: clusterStab_1.76.0.tgz PackageFileSize: 342.3 KiB