Package: clusterStab Version: 1.76.0 Command: rm -rf clusterStab.buildbin-libdir && mkdir clusterStab.buildbin-libdir && /Users/biocbuild/BBS/utils/build-universal.sh clusterStab_1.76.0.tar.gz /Library/Frameworks/R.framework/Resources/bin/R clusterStab.buildbin-libdir StartedAt: 2024-10-17 15:52:34 -0400 (Thu, 17 Oct 2024) EndedAt: 2024-10-17 15:52:45 -0400 (Thu, 17 Oct 2024) EllapsedTime: 10.6 seconds RetCode: 0 Status: OK PackageFile: clusterStab_1.76.0.tgz PackageFileSize: 338.9 KiB