Package: clusterStab Version: 1.76.0 Command: rm -rf clusterStab.buildbin-libdir && mkdir clusterStab.buildbin-libdir && E:\biocbuild\bbs-3.19-bioc\R\bin\R.exe CMD INSTALL --build --library=clusterStab.buildbin-libdir clusterStab_1.76.0.tar.gz StartedAt: 2024-10-17 07:33:26 -0400 (Thu, 17 Oct 2024) EndedAt: 2024-10-17 07:33:39 -0400 (Thu, 17 Oct 2024) EllapsedTime: 13.7 seconds RetCode: 0 Status: OK PackageFile: clusterStab_1.76.0.zip PackageFileSize: 246.5 KiB