Package: clusterStab Version: 1.76.0 Command: chmod a+r clusterStab -R && E:\biocbuild\bbs-3.19-bioc\R\bin\R.exe CMD build --keep-empty-dirs --no-resave-data clusterStab StartedAt: 2024-10-16 18:16:06 -0400 (Wed, 16 Oct 2024) EndedAt: 2024-10-16 18:16:26 -0400 (Wed, 16 Oct 2024) EllapsedTime: 20.1 seconds RetCode: 0 Status: OK PackageFile: clusterStab_1.76.0.tar.gz PackageFileSize: 87.88 KiB