Package: cnvGSA Version: 1.48.0 Command: rm -rf cnvGSA.buildbin-libdir && mkdir cnvGSA.buildbin-libdir && /Users/biocbuild/BBS/utils/build-universal.sh cnvGSA_1.48.0.tar.gz /Library/Frameworks/R.framework/Resources/bin/R cnvGSA.buildbin-libdir StartedAt: 2024-10-18 17:51:24 -0400 (Fri, 18 Oct 2024) EndedAt: 2024-10-18 17:51:41 -0400 (Fri, 18 Oct 2024) EllapsedTime: 17.0 seconds RetCode: 0 Status: OK PackageFile: cnvGSA_1.48.0.tgz PackageFileSize: 430.6 KiB