Package: cnvGSA Version: 1.48.0 Command: /Library/Frameworks/R.framework/Resources/bin/R CMD build --keep-empty-dirs --no-resave-data cnvGSA StartedAt: 2024-10-16 21:55:10 -0400 (Wed, 16 Oct 2024) EndedAt: 2024-10-16 21:55:29 -0400 (Wed, 16 Oct 2024) EllapsedTime: 19.0 seconds RetCode: 0 Status: OK PackageFile: cnvGSA_1.48.0.tar.gz PackageFileSize: 334.3 KiB