Package: cnvGSA Version: 1.48.0 Command: /home/biocbuild/R/R-beta-2024-04-15_r86425/bin/R CMD build --keep-empty-dirs --no-resave-data cnvGSA StartedAt: 2024-05-08 23:25:39 -0000 (Wed, 08 May 2024) EndedAt: 2024-05-08 23:25:55 -0000 (Wed, 08 May 2024) EllapsedTime: 16.0 seconds RetCode: 0 Status: OK PackageFile: cnvGSA_1.48.0.tar.gz PackageFileSize: 330.7 KiB