Package: cnvGSA Version: 1.48.0 Command: /Library/Frameworks/R.framework/Resources/bin/R CMD check --install=check:cnvGSA.install-out.txt --library=/Library/Frameworks/R.framework/Resources/library --no-vignettes --timings cnvGSA_1.48.0.tar.gz StartedAt: 2024-06-09 19:32:02 -0400 (Sun, 09 Jun 2024) EndedAt: 2024-06-09 19:33:29 -0400 (Sun, 09 Jun 2024) EllapsedTime: 87.4 seconds RetCode: 0 Status: OK CheckDir: cnvGSA.Rcheck Warnings: 0