Package: cnvGSA Version: 1.48.0 Command: F:\biocbuild\bbs-3.19-bioc\R\bin\R.exe CMD INSTALL cnvGSA StartedAt: 2024-06-26 15:50:12 -0400 (Wed, 26 Jun 2024) EndedAt: 2024-06-26 15:50:31 -0400 (Wed, 26 Jun 2024) EllapsedTime: 18.6 seconds RetCode: 0 Status: OK