Package: cnvGSA Version: 1.48.0 Command: E:\biocbuild\bbs-3.19-bioc\R\bin\R.exe CMD check --no-multiarch --install=check:cnvGSA.install-out.txt --library=E:\biocbuild\bbs-3.19-bioc\R\library --no-vignettes --timings cnvGSA_1.48.0.tar.gz StartedAt: 2024-10-17 00:10:25 -0400 (Thu, 17 Oct 2024) EndedAt: 2024-10-17 00:11:51 -0400 (Thu, 17 Oct 2024) EllapsedTime: 85.7 seconds RetCode: 0 Status: OK CheckDir: cnvGSA.Rcheck Warnings: 0