Package: coRdon Version: 1.22.0 Command: rm -rf coRdon.buildbin-libdir && mkdir coRdon.buildbin-libdir && /Users/biocbuild/BBS/utils/build-universal.sh coRdon_1.22.0.tar.gz /Library/Frameworks/R.framework/Resources/bin/R coRdon.buildbin-libdir StartedAt: 2024-10-18 17:56:18 -0400 (Fri, 18 Oct 2024) EndedAt: 2024-10-18 17:56:41 -0400 (Fri, 18 Oct 2024) EllapsedTime: 22.5 seconds RetCode: 0 Status: OK PackageFile: coRdon_1.22.0.tgz PackageFileSize: 2.749 MiB