Package: coRdon Version: 1.22.0 Command: /Library/Frameworks/R.framework/Resources/bin/R CMD build --keep-empty-dirs --no-resave-data coRdon StartedAt: 2024-10-16 22:09:44 -0400 (Wed, 16 Oct 2024) EndedAt: 2024-10-16 22:10:40 -0400 (Wed, 16 Oct 2024) EllapsedTime: 55.9 seconds RetCode: 0 Status: OK PackageFile: coRdon_1.22.0.tar.gz PackageFileSize: 2.365 MiB