Package: coRdon Version: 1.22.0 Command: /Library/Frameworks/R.framework/Resources/bin/R CMD build --keep-empty-dirs --no-resave-data coRdon StartedAt: 2024-06-09 16:18:35 -0400 (Sun, 09 Jun 2024) EndedAt: 2024-06-09 16:19:28 -0400 (Sun, 09 Jun 2024) EllapsedTime: 53.1 seconds RetCode: 0 Status: OK PackageFile: coRdon_1.22.0.tar.gz PackageFileSize: 2.266 MiB