Package: coRdon Version: 1.22.0 Command: rm -rf coRdon.buildbin-libdir && mkdir coRdon.buildbin-libdir && E:\biocbuild\bbs-3.19-bioc\R\bin\R.exe CMD INSTALL --build --library=coRdon.buildbin-libdir coRdon_1.22.0.tar.gz StartedAt: 2024-10-17 07:35:44 -0400 (Thu, 17 Oct 2024) EndedAt: 2024-10-17 07:36:23 -0400 (Thu, 17 Oct 2024) EllapsedTime: 38.8 seconds RetCode: 0 Status: OK PackageFile: coRdon_1.22.0.zip PackageFileSize: 1.422 MiB