Package: coRdon Version: 1.22.0 Command: E:\biocbuild\bbs-3.19-bioc\R\bin\R.exe CMD INSTALL coRdon StartedAt: 2024-10-16 16:12:09 -0400 (Wed, 16 Oct 2024) EndedAt: 2024-10-16 16:12:52 -0400 (Wed, 16 Oct 2024) EllapsedTime: 43.9 seconds RetCode: 0 Status: OK