Package: codelink Version: 1.72.0 Command: /Library/Frameworks/R.framework/Resources/bin/R CMD build --keep-empty-dirs --no-resave-data codelink StartedAt: 2024-10-16 21:57:01 -0400 (Wed, 16 Oct 2024) EndedAt: 2024-10-16 21:57:47 -0400 (Wed, 16 Oct 2024) EllapsedTime: 46.0 seconds RetCode: 0 Status: OK PackageFile: codelink_1.72.0.tar.gz PackageFileSize: 3.181 MiB