Package: codelink Version: 1.72.0 Command: /Library/Frameworks/R.framework/Resources/bin/R CMD build --keep-empty-dirs --no-resave-data codelink StartedAt: 2024-06-09 19:44:20 -0400 (Sun, 09 Jun 2024) EndedAt: 2024-06-09 19:45:09 -0400 (Sun, 09 Jun 2024) EllapsedTime: 49.2 seconds RetCode: 0 Status: OK PackageFile: codelink_1.72.0.tar.gz PackageFileSize: 3.18 MiB