Package: codelink Version: 1.72.0 Command: /Library/Frameworks/R.framework/Resources/bin/R CMD check --install=check:codelink.install-out.txt --library=/Library/Frameworks/R.framework/Resources/library --no-vignettes --timings codelink_1.72.0.tar.gz StartedAt: 2024-06-09 19:32:57 -0400 (Sun, 09 Jun 2024) EndedAt: 2024-06-09 19:35:06 -0400 (Sun, 09 Jun 2024) EllapsedTime: 129.7 seconds RetCode: 0 Status: OK CheckDir: codelink.Rcheck Warnings: 0